BEGIN:VCALENDAR
PRODID:-//wi416616//EN
VERSION:2.0
BEGIN:VEVENT
SUMMARY:William George: No Reserve | Jewellery | Watches | Designer Sunglasses | Fashion | Free UK shipping unless otherwise specified
PRIORITY:0
CLASS:PUBLIC
DTSTART:20260406T110000Z
DTEND:20260511T222500Z
DESCRIPTION:
X-ALT-DESC;FMTTYPE=text/html:
LOCATION:William George, Spalding, PE2, United Kingdom
END:VEVENT
END:VCALENDAR