BEGIN:VCALENDAR
PRODID:-//wi416674//EN
VERSION:2.0
BEGIN:VEVENT
SUMMARY:William George: No Reserve | Antique Prints
PRIORITY:0
CLASS:PUBLIC
DTSTART:20260428T110000Z
DTEND:20260514T180000Z
DESCRIPTION:
X-ALT-DESC;FMTTYPE=text/html:
LOCATION:William George, Bury, BL8, United Kingdom
END:VEVENT
END:VCALENDAR