BEGIN:VCALENDAR
PRODID:-//wi416681//EN
VERSION:2.0
BEGIN:VEVENT
SUMMARY:William George: Huge Collection of Fine Art, Antique Furniture, Jewellery and Collectables
PRIORITY:0
CLASS:PUBLIC
DTSTART:20260427T110000Z
DTEND:20260518T040400Z
DESCRIPTION:
X-ALT-DESC;FMTTYPE=text/html:
LOCATION:William George, Worcester, WR1, United Kingdom
END:VEVENT
END:VCALENDAR