BEGIN:VCALENDAR
PRODID:-//wi416533//EN
VERSION:2.0
BEGIN:VEVENT
SUMMARY:William George: Trade Lots, Retail Surplus &amp; Retail Returns | Collective Auction | Closes for entries 03/05/2026
PRIORITY:0
CLASS:PUBLIC
DTSTART:20260504T110000Z
DTEND:20260519T130000Z
DESCRIPTION:
X-ALT-DESC;FMTTYPE=text/html:
LOCATION:William George, Multiple sites, PE2, United Kingdom
END:VEVENT
END:VCALENDAR