BEGIN:VCALENDAR
PRODID:-//wi416526//EN
VERSION:2.0
BEGIN:VEVENT
SUMMARY:William George: Trader Lots of Clothing &amp; Fashion Items | Collective Auction | Closes for entries 03/05/2026
PRIORITY:0
CLASS:PUBLIC
DTSTART:20260504T110000Z
DTEND:20260520T130000Z
DESCRIPTION:
X-ALT-DESC;FMTTYPE=text/html:
LOCATION:William George, Multiple Sites, Lincolnshire, PE9, United Kingdom
END:VEVENT
END:VCALENDAR