BEGIN:VCALENDAR
PRODID:-//wi416676//EN
VERSION:2.0
BEGIN:VEVENT
SUMMARY:William George: Brand New Retail Stock | Tools, Homewares, Clothing, Cosmetics &amp; More | No VAT on Hammer
PRIORITY:0
CLASS:PUBLIC
DTSTART:20260501T110000Z
DTEND:20260520T140000Z
DESCRIPTION:
X-ALT-DESC;FMTTYPE=text/html:
LOCATION:William George, Preston - Delivery Only, PE2, United Kingdom
END:VEVENT
END:VCALENDAR