BEGIN:VCALENDAR
PRODID:-//wi416519//EN
VERSION:2.0
BEGIN:VEVENT
SUMMARY:William George: Collective Art Auction | Original Artwork, Limited Edition Prints, Posters &amp; Collectables | Closes for entries 03/05/26
PRIORITY:0
CLASS:PUBLIC
DTSTART:20260504T110000Z
DTEND:20260524T190000Z
DESCRIPTION:
X-ALT-DESC;FMTTYPE=text/html:
LOCATION:William George, Multiple sites, PE2, United Kingdom
END:VEVENT
END:VCALENDAR