BEGIN:VCALENDAR
PRODID:-//wi416540//EN
VERSION:2.0
BEGIN:VEVENT
SUMMARY:William George: Antiques, Jewellery &amp; Collectables | Collective Auction | Closes for entries 10/05/2026
PRIORITY:0
CLASS:PUBLIC
DTSTART:20260511T110000Z
DTEND:20260528T130000Z
DESCRIPTION:
X-ALT-DESC;FMTTYPE=text/html:
LOCATION:William George, Multiple sites, PE2, United Kingdom
END:VEVENT
END:VCALENDAR