BEGIN:VCALENDAR
PRODID:-//wi416534//EN
VERSION:2.0
BEGIN:VEVENT
SUMMARY:William George: Trade Lots, Retail Surplus &amp; Retail Returns | Collective Auction | Closes for entries 31/05/2026
PRIORITY:0
CLASS:PUBLIC
DTSTART:20260601T110000Z
DTEND:20260616T130000Z
DESCRIPTION:
X-ALT-DESC;FMTTYPE=text/html:
LOCATION:William George, Multiple sites, PE2, United Kingdom
END:VEVENT
END:VCALENDAR